BEGIN:VCALENDAR
VERSION:2.0
PRODID:-//Plone.org//NONSGML plone.app.event//EN
X-WR-TIMEZONE:Europe/Madrid
BEGIN:VEVENT
SUMMARY:El Correllengua 2011 arriba a Sant Vicenç
DTSTART;TZID=Europe/Madrid;VALUE=DATE-TIME:20111016T120000
DTEND;TZID=Europe/Madrid;VALUE=DATE-TIME:20111016T130000
DTSTAMP;VALUE=DATE-TIME:20260424T080036Z
UID:33381f4682f292e48e4ef770f4de7686
CREATED;VALUE=DATE-TIME:20111016T000000Z
CATEGORIES:Festa,Agenda cultural
LOCATION:Plaça del Poble - Plaça del Poble
ORGANIZER:Regidoria de Cultura
COMMENT:Preu: Gratuït
DESCRIPTION:Lectura del Manifest a càrrec d'Evarist March
URL:https://www.svmontalt.cat/document.php?id=5458
END:VEVENT
END:VCALENDAR