BEGIN:VCALENDAR
VERSION:2.0
PRODID:-//Plone.org//NONSGML plone.app.event//EN
X-WR-TIMEZONE:Europe/Madrid
BEGIN:VEVENT
SUMMARY:Los reyes de la calle
DTSTART;TZID=Europe/Madrid;VALUE=DATE-TIME:20111102T173000
DTEND;TZID=Europe/Madrid;VALUE=DATE-TIME:20111102T183000
DTSTAMP;VALUE=DATE-TIME:20260421T221303Z
UID:f614c73426515129812f104886216b9d
CREATED;VALUE=DATE-TIME:20111102T000000Z
CATEGORIES:Dansa,Agenda cultural
LOCATION:Espai Jove - Avinguda Verge de Montserrat, 1
ORGANIZER:Regidoria de Joventut i Espai Jove "El Cau"
DESCRIPTION:Classes d'Street Dance, Hip Hop, Popping&Locking
URL:https://www.svmontalt.cat/document.php?id=5514
END:VEVENT
END:VCALENDAR