BEGIN:VCALENDAR
VERSION:2.0
PRODID:-//Plone.org//NONSGML plone.app.event//EN
X-WR-TIMEZONE:Europe/Madrid
BEGIN:VEVENT
SUMMARY:Los reyes de la calle
DTSTART;TZID=Europe/Madrid;VALUE=DATE-TIME:20111130T173000
DTEND;TZID=Europe/Madrid;VALUE=DATE-TIME:20111130T183000
DTSTAMP;VALUE=DATE-TIME:20260422T033807Z
UID:b1ee13377632e7f1c05cb446e94cf815
CREATED;VALUE=DATE-TIME:20111130T000000Z
CATEGORIES:Dansa,Agenda cultural
LOCATION:Espai Jove - Avinguda Verge de Montserrat, 1
ORGANIZER:Regidoria de Joventut i Espai Jove "El Cau"
DESCRIPTION:Classes d'Street Dance, Hip Hop, Popping&Locking
URL:https://www.svmontalt.cat/document.php?id=5518
END:VEVENT
END:VCALENDAR