BEGIN:VCALENDAR
VERSION:2.0
PRODID:-//Plone.org//NONSGML plone.app.event//EN
X-WR-TIMEZONE:Europe/Madrid
BEGIN:VEVENT
SUMMARY:ActivaLaMent
DTSTART;TZID=Europe/Madrid;VALUE=DATE-TIME:20111125T183000
DTEND;TZID=Europe/Madrid;VALUE=DATE-TIME:20111125T193000
DTSTAMP;VALUE=DATE-TIME:20260421T230332Z
UID:a08417480ed5f355ab73ee239d96ded9
CREATED;VALUE=DATE-TIME:20111125T000000Z
CATEGORIES:Cursos,Agenda cultural
LOCATION:Telecentre - Riera del Gorg, s/n
ORGANIZER:Associaciació de Gent Gran Els Xurranis amb el suport de Fundació "la Caixa"
DESCRIPTION:Activitat conduïda per Sílvia Sánchez
URL:https://www.svmontalt.cat/document.php?id=5528
END:VEVENT
END:VCALENDAR