BEGIN:VCALENDAR
VERSION:2.0
PRODID:-//Plone.org//NONSGML plone.app.event//EN
X-WR-TIMEZONE:Europe/Madrid
BEGIN:VEVENT
SUMMARY:Sortida de la Colla de Geganters a Sant Andreu de Llavaneres
DTSTART;TZID=Europe/Madrid;VALUE=DATE-TIME:20111120T100000
DTEND;TZID=Europe/Madrid;VALUE=DATE-TIME:20111120T110000
DTSTAMP;VALUE=DATE-TIME:20260424T135053Z
UID:1dcbb4c5d6654ee2266ceaea223d7e22
CREATED;VALUE=DATE-TIME:20111120T000000Z
CATEGORIES:Festa,Agenda cultural
LOCATION:Sortida a Sant Andreu de Llavaneres
ORGANIZER:Colla de Geganters de Sant Vicenç de Montalt
URL:https://www.svmontalt.cat/document.php?id=5533
END:VEVENT
END:VCALENDAR