BEGIN:VCALENDAR
VERSION:2.0
PRODID:-//Plone.org//NONSGML plone.app.event//EN
X-WR-TIMEZONE:Europe/Madrid
BEGIN:VEVENT
SUMMARY:Vesprada teatral: "Terra Baixa"
DTSTART;TZID=Europe/Madrid;VALUE=DATE-TIME:20111211T180000
DTEND;TZID=Europe/Madrid;VALUE=DATE-TIME:20111211T190000
DTSTAMP;VALUE=DATE-TIME:20260421T000819Z
UID:68757cf6f67e16cb656330f81572fb32
CREATED;VALUE=DATE-TIME:20111211T000000Z
CATEGORIES:Teatre,Agenda cultural
LOCATION:Centre Cívic El Gorg - Riera del Gorg, s/n
ORGANIZER:Agrupació Teatral Emled amb el suport de la Regidoria de Cultura
COMMENT:Preu: 5 euros
DESCRIPTION:A càrrec de la companyia Teatre Inestable de Sant Andreu de Llavaneres
URL:https://www.svmontalt.cat/document.php?id=5609
END:VEVENT
END:VCALENDAR