BEGIN:VCALENDAR
VERSION:2.0
PRODID:-//Plone.org//NONSGML plone.app.event//EN
X-WR-TIMEZONE:Europe/Madrid
BEGIN:VEVENT
SUMMARY:Round tables en anglès
DTSTART;TZID=Europe/Madrid;VALUE=DATE-TIME:20111202T190000
DTEND;TZID=Europe/Madrid;VALUE=DATE-TIME:20111202T200000
DTSTAMP;VALUE=DATE-TIME:20260420T000909Z
UID:96e62696c0523938db95ec1201a2f3bb
CREATED;VALUE=DATE-TIME:20111202T000000Z
CATEGORIES:Cursos,Agenda cultural
LOCATION:Centre Cívic El Gorg - Riera del Gorg, s/n
ORGANIZER:Biblioteca Municipal La Muntala
COMMENT:Preu: Gratuït
DESCRIPTION:A càrrec de Marion Fitzerald
URL:https://www.svmontalt.cat/document.php?id=5614
END:VEVENT
END:VCALENDAR