BEGIN:VCALENDAR
VERSION:2.0
PRODID:-//Plone.org//NONSGML plone.app.event//EN
X-WR-TIMEZONE:Europe/Madrid
BEGIN:VEVENT
SUMMARY:Taller gratuït de primers auxilis
DTSTART;TZID=Europe/Madrid;VALUE=DATE-TIME:20111203T160000
DTEND;TZID=Europe/Madrid;VALUE=DATE-TIME:20111203T170000
DTSTAMP;VALUE=DATE-TIME:20260421T215816Z
UID:831df76f2d67e438f2bd8bc9a8e6d025
CREATED;VALUE=DATE-TIME:20111203T000000Z
CATEGORIES:Cursos,Agenda cultural
LOCATION:Espai Jove - Avinguda Verge de Montserrat, 1
ORGANIZER:Regidoria de Joventut amb el suport de la Diputació de Barcelona
COMMENT:Preu: Gratuït
Durada: De 16 a 19h
DESCRIPTION:Adreçat a nois i noies de 12 a 30 anys
URL:https://www.svmontalt.cat/document.php?id=5621
END:VEVENT
END:VCALENDAR