BEGIN:VCALENDAR
VERSION:2.0
PRODID:-//Plone.org//NONSGML plone.app.event//EN
X-WR-TIMEZONE:Europe/Madrid
BEGIN:VEVENT
SUMMARY:Taller de dansa
DTSTART;TZID=Europe/Madrid;VALUE=DATE-TIME:20120218T170000
DTEND;TZID=Europe/Madrid;VALUE=DATE-TIME:20120218T180000
DTSTAMP;VALUE=DATE-TIME:20260420T034511Z
UID:5857e0edacf9e3f6f3703b3f5eba9d5f
CREATED;VALUE=DATE-TIME:20120218T000000Z
CATEGORIES:Cursos,Agenda cultural
LOCATION:Pista annexa al Pavelló Municipal Toni Sors - Avinguda Toni Sors, s/n
ORGANIZER:Regidoria de Cultura, Colla de Geganters i Fusic
COMMENT:Preu: Gratuït
DESCRIPTION:El Ball dels Bòbuls i les Margaridasses
URL:https://www.svmontalt.cat/document.php?id=5660
END:VEVENT
END:VCALENDAR