BEGIN:VCALENDAR
VERSION:2.0
PRODID:-//Plone.org//NONSGML plone.app.event//EN
X-WR-TIMEZONE:Europe/Madrid
BEGIN:VEVENT
SUMMARY:Taller de teatre
DTSTART;TZID=Europe/Madrid;VALUE=DATE-TIME:20120223T213000
DTEND;TZID=Europe/Madrid;VALUE=DATE-TIME:20120223T223000
DTSTAMP;VALUE=DATE-TIME:20260420T040724Z
UID:ebc8e0402b52df74f57edf0126c0b415
CREATED;VALUE=DATE-TIME:20120223T000000Z
CATEGORIES:Cursos,Agenda cultural
LOCATION:Centre Cívic El Gorg - Riera del Gorg, s/n
ORGANIZER:Regidoria de Cultura, Colla de Geganters i Fusic
COMMENT:Preu: Gratuït
Durada: De les 21.30 a les 23.30h
DESCRIPTION:la subhasta dels Bòbuls i les Margaridasses
URL:https://www.svmontalt.cat/document.php?id=5664
END:VEVENT
END:VCALENDAR