BEGIN:VCALENDAR
VERSION:2.0
PRODID:-//Plone.org//NONSGML plone.app.event//EN
X-WR-TIMEZONE:Europe/Madrid
BEGIN:VEVENT
SUMMARY:Cicle de xerrades sobre el descobriment de l'ànima
DTSTART;TZID=Europe/Madrid;VALUE=DATE-TIME:20120127T190000
DTEND;TZID=Europe/Madrid;VALUE=DATE-TIME:20120127T200000
DTSTAMP;VALUE=DATE-TIME:20260419T162610Z
UID:d0b2c3e346387cab5e4784559075d788
CREATED;VALUE=DATE-TIME:20120127T000000Z
CATEGORIES:Cursos,Agenda cultural
LOCATION:Centre Cívic El Gorg - Riera del Gorg, s/n
ORGANIZER:Montse Macanàs amb el suport de la Regidoria de Benestar Social
COMMENT:Preu: Gratuït
DESCRIPTION:"Meditació guiada", amb Montse Macanàs
URL:https://www.svmontalt.cat/document.php?id=5705
END:VEVENT
END:VCALENDAR