BEGIN:VCALENDAR
VERSION:2.0
PRODID:-//Plone.org//NONSGML plone.app.event//EN
X-WR-TIMEZONE:Europe/Madrid
BEGIN:VEVENT
SUMMARY:XVII Escudellada de Festa Major
DTSTART;TZID=Europe/Madrid;VALUE=DATE-TIME:20120115T140000
DTEND;TZID=Europe/Madrid;VALUE=DATE-TIME:20120115T150000
DTSTAMP;VALUE=DATE-TIME:20260419T164645Z
UID:34d4fc42ca993127e75a558c35c8aa1a
CREATED;VALUE=DATE-TIME:20120115T000000Z
CATEGORIES:Festa,Agenda cultural
LOCATION:Pista annexa al Pavelló Municipal Toni Sors - Avinguda Toni Sors, s/n
ORGANIZER:Regidoria de Cultura amb la col·laboració d'Els escudellaires
COMMENT:Preu: 10 euros (venda anticipada de tiquets)
URL:https://www.svmontalt.cat/document.php?id=5712
END:VEVENT
END:VCALENDAR