BEGIN:VCALENDAR
VERSION:2.0
PRODID:-//Plone.org//NONSGML plone.app.event//EN
X-WR-TIMEZONE:Europe/Madrid
BEGIN:VEVENT
SUMMARY:Taller d'escriptura
DTSTART;TZID=Europe/Madrid;VALUE=DATE-TIME:20120202T190000
DTEND;TZID=Europe/Madrid;VALUE=DATE-TIME:20120202T200000
DTSTAMP;VALUE=DATE-TIME:20260420T034531Z
UID:bc3f461ae0a1da42cefbc430f2e6dba4
CREATED;VALUE=DATE-TIME:20120202T000000Z
CATEGORIES:Cursos,Agenda cultural
LOCATION:Centre Cívic El Gorg - Riera del Gorg, s/n
ORGANIZER:Biblioteca Municipal La Muntala
COMMENT:Preu: Gratuït
DESCRIPTION:A càrrec de Pius Morera, filòleg i poeta
URL:https://www.svmontalt.cat/document.php?id=5768
END:VEVENT
END:VCALENDAR