BEGIN:VCALENDAR
VERSION:2.0
PRODID:-//Plone.org//NONSGML plone.app.event//EN
X-WR-TIMEZONE:Europe/Madrid
BEGIN:VEVENT
SUMMARY:Cinema familiar: "Rio"
DTSTART;TZID=Europe/Madrid;VALUE=DATE-TIME:20120212T180000
DTEND;TZID=Europe/Madrid;VALUE=DATE-TIME:20120212T190000
DTSTAMP;VALUE=DATE-TIME:20260419T192807Z
UID:b8d4fa68fbc57adfc2402b829d601040
CREATED;VALUE=DATE-TIME:20120212T000000Z
CATEGORIES:Cinema,Agenda cultural
LOCATION:Centre Cívic El Gorg - Riera del Gorg, s/n
ORGANIZER:Regidoria de Cultura
COMMENT:Preu: 2 euros
URL:https://www.svmontalt.cat/document.php?id=5785
END:VEVENT
END:VCALENDAR