BEGIN:VCALENDAR
VERSION:2.0
PRODID:-//Plone.org//NONSGML plone.app.event//EN
X-WR-TIMEZONE:Europe/Madrid
BEGIN:VEVENT
SUMMARY:Xerrada: "Construeix el teu projecte professional i troba la teva oportunitat laboral al Maresme"
DTSTART;TZID=Europe/Madrid;VALUE=DATE-TIME:20120229T100000
DTEND;TZID=Europe/Madrid;VALUE=DATE-TIME:20120229T110000
DTSTAMP;VALUE=DATE-TIME:20260419T172117Z
UID:1a4d69f4748d299dd62318081bfd6e59
CREATED;VALUE=DATE-TIME:20120229T000000Z
LOCATION:Centre Cívic El Gorg - Riera del Gorg, s/n
ORGANIZER:Regidoria de Promoció Econòmica
COMMENT:Preu: Gratuït
Durada: De les 10 a les 13h
DESCRIPTION:Club de feina
URL:https://www.svmontalt.cat/document.php?id=5794
END:VEVENT
END:VCALENDAR