BEGIN:VCALENDAR
VERSION:2.0
PRODID:-//Plone.org//NONSGML plone.app.event//EN
X-WR-TIMEZONE:Europe/Madrid
BEGIN:VEVENT
SUMMARY:Vine a córrer amb els Runners
DTSTART;TZID=Europe/Madrid;VALUE=DATE-TIME:20120310T083000
DTEND;TZID=Europe/Madrid;VALUE=DATE-TIME:20120310T093000
DTSTAMP;VALUE=DATE-TIME:20260421T162220Z
UID:54cc2865fd865cbcfde4d9ba8aefae1a
CREATED;VALUE=DATE-TIME:20120310T000000Z
CATEGORIES:Esports
LOCATION:Parc dels Germans Gabrielistes
ORGANIZER:Associació Excursionista MontalTrek
URL:https://www.svmontalt.cat/document.php?id=5858
END:VEVENT
END:VCALENDAR