BEGIN:VCALENDAR
VERSION:2.0
PRODID:-//Plone.org//NONSGML plone.app.event//EN
X-WR-TIMEZONE:Europe/Madrid
BEGIN:VEVENT
SUMMARY:Espectacle solidari de màgia: "Àfrica Màgica"
DTSTART;TZID=Europe/Madrid;VALUE=DATE-TIME:20120311T180000
DTEND;TZID=Europe/Madrid;VALUE=DATE-TIME:20120311T190000
DTSTAMP;VALUE=DATE-TIME:20260422T083011Z
UID:abbdccd6076e5eefcdb705df37e9425a
CREATED;VALUE=DATE-TIME:20120311T000000Z
LOCATION:Centre Cívic El Gorg - Riera del Gorg, s/n
ORGANIZER:Natura & Màgia amb el suport de la Regidoria de Cultura
COMMENT:Preu: 4 euros
URL:https://www.svmontalt.cat/document.php?id=5892
END:VEVENT
END:VCALENDAR