BEGIN:VCALENDAR
VERSION:2.0
PRODID:-//Plone.org//NONSGML plone.app.event//EN
X-WR-TIMEZONE:Europe/Madrid
BEGIN:VEVENT
SUMMARY:Taller de Ioga
DTSTART;TZID=Europe/Madrid;VALUE=DATE-TIME:20120313T104500
DTEND;TZID=Europe/Madrid;VALUE=DATE-TIME:20120313T114500
DTSTAMP;VALUE=DATE-TIME:20260420T040907Z
UID:e6c87762d8aceb2ab624912a66b9e5f1
CREATED;VALUE=DATE-TIME:20120313T000000Z
CATEGORIES:Cursos,Agenda cultural
LOCATION:Centre Cívic El Gorg - Riera del Gorg, s/n
ORGANIZER:Donactiva
COMMENT:Preu: Gratuït
URL:https://www.svmontalt.cat/document.php?id=5895
END:VEVENT
END:VCALENDAR