BEGIN:VCALENDAR
VERSION:2.0
PRODID:-//Plone.org//NONSGML plone.app.event//EN
X-WR-TIMEZONE:Europe/Madrid
BEGIN:VEVENT
SUMMARY:Cicle de xerrades sobre el descobriment de l'ànima: "La pintura com a vehicle d'expressió"
DTSTART;TZID=Europe/Madrid;VALUE=DATE-TIME:20120323T190000
DTEND;TZID=Europe/Madrid;VALUE=DATE-TIME:20120323T200000
DTSTAMP;VALUE=DATE-TIME:20260421T172052Z
UID:857cf7f825d503af44165830941968bb
CREATED;VALUE=DATE-TIME:20120323T000000Z
CATEGORIES:Cursos,Agenda cultural
LOCATION:Centre Cívic El Gorg - Riera del Gorg, s/n
ORGANIZER:Montse Macanàs amb el suport de la Regidoria de Benestar Social
COMMENT:Preu: Gratuït
DESCRIPTION:A càrrec de Gina Pòrtera, pintora, i Montse Macanàs, mestra de Reiki
URL:https://www.svmontalt.cat/document.php?id=5908
END:VEVENT
END:VCALENDAR