BEGIN:VCALENDAR
VERSION:2.0
PRODID:-//Plone.org//NONSGML plone.app.event//EN
X-WR-TIMEZONE:Europe/Madrid
BEGIN:VEVENT
SUMMARY:Recital poètic
DTSTART;TZID=Europe/Madrid;VALUE=DATE-TIME:20120325T190000
DTEND;TZID=Europe/Madrid;VALUE=DATE-TIME:20120325T200000
DTSTAMP;VALUE=DATE-TIME:20260422T033009Z
UID:029eaf99cef8a27b1ec979798899f2d4
CREATED;VALUE=DATE-TIME:20120325T000000Z
CATEGORIES:Literatura,Agenda cultural
LOCATION:Centre Cívic El Gorg - Riera del Gorg, s/n
ORGANIZER:Biblioteca Municipal La Muntala
COMMENT:Preu: Gratuït
DESCRIPTION:II Dia Mundial de la Poesia
URL:https://www.svmontalt.cat/document.php?id=5909
END:VEVENT
END:VCALENDAR