BEGIN:VCALENDAR
VERSION:2.0
PRODID:-//Plone.org//NONSGML plone.app.event//EN
X-WR-TIMEZONE:Europe/Madrid
BEGIN:VEVENT
SUMMARY:Programa especial de "La veu de la Gent Gran"
DTSTART;TZID=Europe/Madrid;VALUE=DATE-TIME:20120307T180000
DTEND;TZID=Europe/Madrid;VALUE=DATE-TIME:20120307T190000
DTSTAMP;VALUE=DATE-TIME:20260421T175311Z
UID:16bd341ceaa68b4a534d33b74aaffb31
CREATED;VALUE=DATE-TIME:20120307T000000Z
LOCATION:Al 107.4 FM - Ràdio Santvi
ORGANIZER:Ràdio Santvi
COMMENT:Preu: Gratuït
DESCRIPTION:Amb motiu del Dian Internacional de la Dona Treballadora
URL:https://www.svmontalt.cat/document.php?id=5918
END:VEVENT
END:VCALENDAR