BEGIN:VCALENDAR
VERSION:2.0
PRODID:-//Plone.org//NONSGML plone.app.event//EN
X-WR-TIMEZONE:Europe/Madrid
BEGIN:VEVENT
SUMMARY:1a Fase del Campionat Comarcal de Gimnàstica Artística
DTSTART;TZID=Europe/Madrid;VALUE=DATE-TIME:20120325T100000
DTEND;TZID=Europe/Madrid;VALUE=DATE-TIME:20120325T110000
DTSTAMP;VALUE=DATE-TIME:20260419T142928Z
UID:a4c9a26f45f5e595854de4f9d26b1a54
CREATED;VALUE=DATE-TIME:20120325T000000Z
CATEGORIES:Esports
LOCATION:Pavelló Municipal Toni Sors - Avinguda Toni Sors, s/n
ORGANIZER:Regidoria d'Esports i Consell Esportiu del Maresme
COMMENT:Preu: Gratuït
URL:https://www.svmontalt.cat/document.php?id=5946
END:VEVENT
END:VCALENDAR