BEGIN:VCALENDAR
VERSION:2.0
PRODID:-//Plone.org//NONSGML plone.app.event//EN
X-WR-TIMEZONE:Europe/Madrid
BEGIN:VEVENT
SUMMARY:Taller d'escriptura
DTSTART;TZID=Europe/Madrid;VALUE=DATE-TIME:20120405T190000
DTEND;TZID=Europe/Madrid;VALUE=DATE-TIME:20120405T200000
DTSTAMP;VALUE=DATE-TIME:20260420T022438Z
UID:14386f3b2ffe8c6b040fda463a160784
CREATED;VALUE=DATE-TIME:20120405T000000Z
CATEGORIES:Cursos,Agenda cultural
LOCATION:Centre Cívic El Gorg - Riera del Gorg, s/n
ORGANIZER:Biblioteca Municipal La Muntala
COMMENT:Preu: Gratuït
DESCRIPTION:A càrrec de Pius Morera, filòleg i poeta
URL:https://www.svmontalt.cat/document.php?id=5973
END:VEVENT
END:VCALENDAR