BEGIN:VCALENDAR
VERSION:2.0
PRODID:-//Plone.org//NONSGML plone.app.event//EN
X-WR-TIMEZONE:Europe/Madrid
BEGIN:VEVENT
SUMMARY:Curs de català per a majors de 60 anys
DTSTART;TZID=Europe/Madrid;VALUE=DATE-TIME:20120425T100000
DTEND;TZID=Europe/Madrid;VALUE=DATE-TIME:20120425T110000
DTSTAMP;VALUE=DATE-TIME:20260422T050653Z
UID:80323c22b787f3ab66316040c7faed40
CREATED;VALUE=DATE-TIME:20120425T000000Z
CATEGORIES:Cursos,Agenda cultural
LOCATION:Centre Cívic El Gorg - Riera del Gorg, s/n
ORGANIZER:Associació de Gent Gran Els Xurravins
COMMENT:Preu: 5 euros, socis "Xurravins" i 10 euros, no socis
DESCRIPTION:Impartit per Sílvia Sánchez
URL:https://www.svmontalt.cat/document.php?id=5996
END:VEVENT
END:VCALENDAR