BEGIN:VCALENDAR
VERSION:2.0
PRODID:-//Plone.org//NONSGML plone.app.event//EN
X-WR-TIMEZONE:Europe/Madrid
BEGIN:VEVENT
SUMMARY:Curs de català per a majors de 60 anys
DTSTART;TZID=Europe/Madrid;VALUE=DATE-TIME:20120523T100000
DTEND;TZID=Europe/Madrid;VALUE=DATE-TIME:20120523T110000
DTSTAMP;VALUE=DATE-TIME:20260426T005818Z
UID:da6945899170d2cf65db16b228a7feda
CREATED;VALUE=DATE-TIME:20120523T000000Z
CATEGORIES:Cursos,Agenda cultural
LOCATION:Centre Cívic El Gorg - Riera del Gorg, s/n
ORGANIZER:Associació de Gent Gran Els Xurravins
COMMENT:Preu: 5 euros, socis "Xurravins" i 10 euros, no socis
DESCRIPTION:Impartit per Sílvia Sánchez
URL:https://www.svmontalt.cat/document.php?id=6026
END:VEVENT
END:VCALENDAR