BEGIN:VCALENDAR
VERSION:2.0
PRODID:-//Plone.org//NONSGML plone.app.event//EN
X-WR-TIMEZONE:Europe/Madrid
BEGIN:VEVENT
SUMMARY:Curs: "Espècies i plantes aromàtiques a la cuina"
DTSTART;TZID=Europe/Madrid;VALUE=DATE-TIME:20120511T173000
DTEND;TZID=Europe/Madrid;VALUE=DATE-TIME:20120511T183000
DTSTAMP;VALUE=DATE-TIME:20260423T114115Z
UID:b96e0c36a0031c8aa1800f2404e7a2f4
CREATED;VALUE=DATE-TIME:20120511T000000Z
CATEGORIES:Cursos,Agenda cultural
LOCATION:Centre Cívic El Gorg - Riera del Gorg, s/n
ORGANIZER:Associació de Gent Gran Els Xurravins
COMMENT:Preu: Gratuït
DESCRIPTION:Impartit per Sílvia Sánchez
URL:https://www.svmontalt.cat/document.php?id=6032
END:VEVENT
END:VCALENDAR