BEGIN:VCALENDAR
VERSION:2.0
PRODID:-//Plone.org//NONSGML plone.app.event//EN
X-WR-TIMEZONE:Europe/Madrid
BEGIN:VEVENT
SUMMARY:Curs: "Manteniment i rehabilitació psicosocial de les persones depenents a domicili"
DTSTART;TZID=Europe/Madrid;VALUE=DATE-TIME:20120502T100000
DTEND;TZID=Europe/Madrid;VALUE=DATE-TIME:20120502T110000
DTSTAMP;VALUE=DATE-TIME:20260420T191428Z
UID:2dabf6ba0d175d78318b6b0c9ee9675d
CREATED;VALUE=DATE-TIME:20120502T000000Z
CATEGORIES:Cursos,Agenda cultural
LOCATION:Centre Cívic El Gorg - Riera del Gorg, s/n
ORGANIZER:Regidoria de Promoció Econòmica
COMMENT:Preu: Gratuït
URL:https://www.svmontalt.cat/document.php?id=6052
END:VEVENT
END:VCALENDAR