BEGIN:VCALENDAR
VERSION:2.0
PRODID:-//Plone.org//NONSGML plone.app.event//EN
X-WR-TIMEZONE:Europe/Madrid
BEGIN:VEVENT
SUMMARY:Taller d'escriptura
DTSTART;TZID=Europe/Madrid;VALUE=DATE-TIME:20120503T190000
DTEND;TZID=Europe/Madrid;VALUE=DATE-TIME:20120503T200000
DTSTAMP;VALUE=DATE-TIME:20260420T022942Z
UID:966e2f1d55ce88e416af43b1e85ecb7e
CREATED;VALUE=DATE-TIME:20120503T000000Z
CATEGORIES:Cursos,Agenda cultural
LOCATION:Centre Cívic El Gorg - Riera del Gorg, s/n
ORGANIZER:Biblioteca Municipal La Muntala
COMMENT:Preu: Gratuït
DESCRIPTION:A càrrec de Pius Morera, filòleg i poeta
URL:https://www.svmontalt.cat/document.php?id=6105
END:VEVENT
END:VCALENDAR