BEGIN:VCALENDAR
VERSION:2.0
PRODID:-//Plone.org//NONSGML plone.app.event//EN
X-WR-TIMEZONE:Europe/Madrid
BEGIN:VEVENT
SUMMARY:Taller d'escriptura
DTSTART;TZID=Europe/Madrid;VALUE=DATE-TIME:20120614T190000
DTEND;TZID=Europe/Madrid;VALUE=DATE-TIME:20120614T200000
DTSTAMP;VALUE=DATE-TIME:20260420T011009Z
UID:a754f4ee51d4802b8903d0f3e7c7ea0c
CREATED;VALUE=DATE-TIME:20120614T000000Z
CATEGORIES:Cursos,Agenda cultural
LOCATION:Centre Cívic El Gorg - Riera del Gorg, s/n
ORGANIZER:Biblioteca Municipal La Muntala
COMMENT:Preu: Gratuït
DESCRIPTION:A càrrec de Pius Morera, filòleg i poeta
URL:https://www.svmontalt.cat/document.php?id=6200
END:VEVENT
END:VCALENDAR