BEGIN:VCALENDAR
VERSION:2.0
PRODID:-//Plone.org//NONSGML plone.app.event//EN
X-WR-TIMEZONE:Europe/Madrid
BEGIN:VEVENT
SUMMARY:Club de feina
DTSTART;TZID=Europe/Madrid;VALUE=DATE-TIME:20120627T100000
DTEND;TZID=Europe/Madrid;VALUE=DATE-TIME:20120627T110000
DTSTAMP;VALUE=DATE-TIME:20260422T145506Z
UID:a325f6dc6f26c6c7e64908455b4ed0e4
CREATED;VALUE=DATE-TIME:20120627T000000Z
LOCATION:Telecentre - Riera del Gorg, s/n
ORGANIZER:Regidoria de Promoció Econòmica
COMMENT:Preu: Gratuït
Durada: De 10 a 11h
URL:https://www.svmontalt.cat/document.php?id=6216
END:VEVENT
END:VCALENDAR