BEGIN:VCALENDAR
VERSION:2.0
PRODID:-//Plone.org//NONSGML plone.app.event//EN
X-WR-TIMEZONE:Europe/Madrid
BEGIN:VEVENT
SUMMARY:11a Diada de l'esport
DTSTART;TZID=Europe/Madrid;VALUE=DATE-TIME:20120602T100000
DTEND;TZID=Europe/Madrid;VALUE=DATE-TIME:20120602T110000
DTSTAMP;VALUE=DATE-TIME:20260420T193545Z
UID:8541ecac35cff55b5cc5ea229ec39c2b
CREATED;VALUE=DATE-TIME:20120602T000000Z
CATEGORIES:Esports
LOCATION:Pavelló Municipal Toni Sors - Avinguda Toni Sors, s/n
ORGANIZER:Regidoria d'Esports amb el suport de la Diputació de Barcelona
COMMENT:Preu: Gratuït
URL:https://www.svmontalt.cat/document.php?id=6219
END:VEVENT
END:VCALENDAR