BEGIN:VCALENDAR
VERSION:2.0
PRODID:-//Plone.org//NONSGML plone.app.event//EN
X-WR-TIMEZONE:Europe/Madrid
BEGIN:VEVENT
SUMMARY:XVI Trobada de Puntaires
DTSTART;TZID=Europe/Madrid;VALUE=DATE-TIME:20120701T100000
DTEND;TZID=Europe/Madrid;VALUE=DATE-TIME:20120701T110000
DTSTAMP;VALUE=DATE-TIME:20260421T020001Z
UID:5214682efd8b96a675b2826c9d0fcfc1
CREATED;VALUE=DATE-TIME:20120701T000000Z
CATEGORIES:Mostra,Agenda cultural
LOCATION:Pista annexa al Pavelló Municipal Toni Sors - Avinguda Toni Sors, s/n
ORGANIZER:Associació de Puntaires de Sant Vicenç amb el suport de la Regidoria de Cultura
URL:https://www.svmontalt.cat/document.php?id=6226
END:VEVENT
END:VCALENDAR