BEGIN:VCALENDAR
VERSION:2.0
PRODID:-//Plone.org//NONSGML plone.app.event//EN
X-WR-TIMEZONE:Europe/Madrid
BEGIN:VEVENT
SUMMARY:I Torneig de futbol base
DTSTART;TZID=Europe/Madrid;VALUE=DATE-TIME:20120616T090000
DTEND;TZID=Europe/Madrid;VALUE=DATE-TIME:20120616T100000
DTSTAMP;VALUE=DATE-TIME:20260420T163921Z
UID:3cb5c55f9fe253da81c3aa6aaa02c6e3
CREATED;VALUE=DATE-TIME:20120616T000000Z
CATEGORIES:Esports
ORGANIZER:C.F. Santvicentí i Regidoria d'Esports
COMMENT:Durada: De 9 a 14.30h i de 16.30 a 19h
DESCRIPTION:Categories Prebenjamí i Escola
URL:https://www.svmontalt.cat/document.php?id=6260
END:VEVENT
END:VCALENDAR