BEGIN:VCALENDAR
VERSION:2.0
PRODID:-//Plone.org//NONSGML plone.app.event//EN
X-WR-TIMEZONE:Europe/Madrid
BEGIN:VEVENT
SUMMARY:Festa de benvinguda a l'estiu
DTSTART;TZID=Europe/Madrid;VALUE=DATE-TIME:20120708T180000
DTEND;TZID=Europe/Madrid;VALUE=DATE-TIME:20120708T190000
DTSTAMP;VALUE=DATE-TIME:20260423T032637Z
UID:19ecf8a1b85ec610b7551d47fba61c52
CREATED;VALUE=DATE-TIME:20120708T000000Z
CATEGORIES:Festa,Agenda cultural,Infantils
LOCATION:Platja de Sant Vicenç - Passeig Marquès de Casa Riera, s/n
ORGANIZER:Associació Fem Sant Vicenç amb la col·laboració de la Regidoria de Cultura
URL:https://www.svmontalt.cat/document.php?id=6293
END:VEVENT
END:VCALENDAR