BEGIN:VCALENDAR
VERSION:2.0
PRODID:-//Plone.org//NONSGML plone.app.event//EN
X-WR-TIMEZONE:Europe/Madrid
BEGIN:VEVENT
SUMMARY:1r Torneig de futbol platja
DTSTART;TZID=Europe/Madrid;VALUE=DATE-TIME:20120708T100000
DTEND;TZID=Europe/Madrid;VALUE=DATE-TIME:20120708T110000
DTSTAMP;VALUE=DATE-TIME:20260420T163903Z
UID:1a8ef1d3bfc5f26f58fbb26680af84d0
CREATED;VALUE=DATE-TIME:20120708T000000Z
CATEGORIES:Esports
LOCATION:Platja de Sant Vicenç - Passeig Marquès de Casa Riera, s/n
ORGANIZER:Regidoria d'Esports amb la col·laboració de la Diputació de Barcelona
DESCRIPTION:Dies 6, 7 i 8 de juliol
URL:https://www.svmontalt.cat/document.php?id=6307
END:VEVENT
END:VCALENDAR