BEGIN:VCALENDAR
VERSION:2.0
PRODID:-//Plone.org//NONSGML plone.app.event//EN
X-WR-TIMEZONE:Europe/Madrid
BEGIN:VEVENT
SUMMARY:Cinema a la fresca
DTSTART;TZID=Europe/Madrid;VALUE=DATE-TIME:20120810T220000
DTEND;TZID=Europe/Madrid;VALUE=DATE-TIME:20120810T230000
DTSTAMP;VALUE=DATE-TIME:20260422T032910Z
UID:4440932e83a853da81624e3326fa8ad0
CREATED;VALUE=DATE-TIME:20120810T000000Z
CATEGORIES:Cinema,Agenda cultural
LOCATION:Plaça del Poble - Plaça del Poble, s/n
ORGANIZER:Regidoria de Cultura
COMMENT:Preu: Gratuït
DESCRIPTION:Alvin i els esquirols 3
URL:https://www.svmontalt.cat/document.php?id=6322
END:VEVENT
END:VCALENDAR