BEGIN:VCALENDAR
VERSION:2.0
PRODID:-//Plone.org//NONSGML plone.app.event//EN
X-WR-TIMEZONE:Europe/Madrid
BEGIN:VEVENT
SUMMARY:Sopar i ball de Festa Major
DTSTART;TZID=Europe/Madrid;VALUE=DATE-TIME:20120811T220000
DTEND;TZID=Europe/Madrid;VALUE=DATE-TIME:20120811T230000
DTSTAMP;VALUE=DATE-TIME:20260421T213047Z
UID:25e96460cf41c042ea17944c58e81098
CREATED;VALUE=DATE-TIME:20120811T000000Z
CATEGORIES:Festa,Agenda cultural
LOCATION:Pista annexa al Pavelló Municipal Toni Sors - Avinguda Toni Sors, s/n
ORGANIZER:Regidoria de Cultura
COMMENT:Preu: Tiquet sopar: 10 euros
URL:https://www.svmontalt.cat/document.php?id=6323
END:VEVENT
END:VCALENDAR