BEGIN:VCALENDAR
VERSION:2.0
PRODID:-//Plone.org//NONSGML plone.app.event//EN
X-WR-TIMEZONE:Europe/Madrid
BEGIN:VEVENT
SUMMARY:Correfoc i bany de nit
DTSTART;TZID=Europe/Madrid;VALUE=DATE-TIME:20120812T220000
DTEND;TZID=Europe/Madrid;VALUE=DATE-TIME:20120812T230000
DTSTAMP;VALUE=DATE-TIME:20260422T050546Z
UID:3d73fa75bef23a2f640fb46455bd23c3
CREATED;VALUE=DATE-TIME:20120812T000000Z
CATEGORIES:Festa,Agenda cultural
LOCATION:Carrers del Nucli Antic i Piscina Municipal
ORGANIZER:Regidoria de Cultura
COMMENT:Preu: Gratuït
DESCRIPTION:Amb la Colla de Diables de Caldes d'Estrac
URL:https://www.svmontalt.cat/document.php?id=6324
END:VEVENT
END:VCALENDAR