BEGIN:VCALENDAR
VERSION:2.0
PRODID:-//Plone.org//NONSGML plone.app.event//EN
X-WR-TIMEZONE:Europe/Madrid
BEGIN:VEVENT
SUMMARY:Gran festa infantil de l'escuma
DTSTART;TZID=Europe/Madrid;VALUE=DATE-TIME:20120813T110000
DTEND;TZID=Europe/Madrid;VALUE=DATE-TIME:20120813T120000
DTSTAMP;VALUE=DATE-TIME:20260422T032937Z
UID:e5a904f4b5c92c403f00334033338855
CREATED;VALUE=DATE-TIME:20120813T000000Z
CATEGORIES:Festa,Agenda cultural,Infantils
LOCATION:Pista annexa al Pavelló Municipal Toni Sors - Avinguda Toni Sors, s/n
ORGANIZER:Regidoria de Cultura
COMMENT:Preu: Gratuït
URL:https://www.svmontalt.cat/document.php?id=6325
END:VEVENT
END:VCALENDAR