BEGIN:VCALENDAR
VERSION:2.0
PRODID:-//Plone.org//NONSGML plone.app.event//EN
X-WR-TIMEZONE:Europe/Madrid
BEGIN:VEVENT
SUMMARY:Repicada de campanes i petardada
DTSTART;TZID=Europe/Madrid;VALUE=DATE-TIME:20120815T100000
DTEND;TZID=Europe/Madrid;VALUE=DATE-TIME:20120815T110000
DTSTAMP;VALUE=DATE-TIME:20260422T033052Z
UID:3f58e9460e2ac13399238b4ee2b4554f
CREATED;VALUE=DATE-TIME:20120815T000000Z
CATEGORIES:Festa,Agenda cultural
LOCATION:Campanar de l'església de Sant Vicenç - Plaça de l'Esglèsia, s/n
ORGANIZER:Regidoria de Cultura i Parròquia de Sant Vicenç
COMMENT:Preu: Gratuït
DESCRIPTION:Anunciant l'inici dels actes centrals de la Festa Major d'Estiu
URL:https://www.svmontalt.cat/document.php?id=6329
END:VEVENT
END:VCALENDAR