BEGIN:VCALENDAR
VERSION:2.0
PRODID:-//Plone.org//NONSGML plone.app.event//EN
X-WR-TIMEZONE:Europe/Madrid
BEGIN:VEVENT
SUMMARY:Ofici en honor a la Mare de Déu de l'Assumpció
DTSTART;TZID=Europe/Madrid;VALUE=DATE-TIME:20120815T110000
DTEND;TZID=Europe/Madrid;VALUE=DATE-TIME:20120815T120000
DTSTAMP;VALUE=DATE-TIME:20260422T093248Z
UID:d199061457c074e5b059cd8bbcf83e2a
CREATED;VALUE=DATE-TIME:20120815T000000Z
CATEGORIES:Festa,Agenda cultural
LOCATION:Església de Sant Vicenç - Plaça de l'Esglèsia, s/n
ORGANIZER:Parròquia de Sant Vicenç amb la col·laboració de l'Orfeó Parroquial El Delme
COMMENT:Preu: Gratuït
DESCRIPTION:Amb la participació de l'Orfeó Parroquial El Delme
URL:https://www.svmontalt.cat/document.php?id=6331
END:VEVENT
END:VCALENDAR