BEGIN:VCALENDAR
VERSION:2.0
PRODID:-//Plone.org//NONSGML plone.app.event//EN
X-WR-TIMEZONE:Europe/Madrid
BEGIN:VEVENT
SUMMARY:Ballada de sardanes i vermut popular
DTSTART;TZID=Europe/Madrid;VALUE=DATE-TIME:20120815T120000
DTEND;TZID=Europe/Madrid;VALUE=DATE-TIME:20120815T130000
DTSTAMP;VALUE=DATE-TIME:20260422T034746Z
UID:a08bfea8de0dd85cb3b55036459f3eb4
CREATED;VALUE=DATE-TIME:20120815T000000Z
CATEGORIES:Festa,Música,Agenda cultural
LOCATION:Plaça del Poble - Plaça del Poble, s/n
ORGANIZER:Regidoria de Cultura
COMMENT:Preu: Gratuït
DESCRIPTION:Amb la Cobla Selvamar
URL:https://www.svmontalt.cat/document.php?id=6332
END:VEVENT
END:VCALENDAR