BEGIN:VCALENDAR
VERSION:2.0
PRODID:-//Plone.org//NONSGML plone.app.event//EN
X-WR-TIMEZONE:Europe/Madrid
BEGIN:VEVENT
SUMMARY:Gran castell de focs d'artifici
DTSTART;TZID=Europe/Madrid;VALUE=DATE-TIME:20120815T230000
DTEND;TZID=Europe/Madrid;VALUE=DATE-TIME:20120816T000000
DTSTAMP;VALUE=DATE-TIME:20260422T033107Z
UID:0379d2ae5af19194a28f3f95138d194e
CREATED;VALUE=DATE-TIME:20120815T000000Z
CATEGORIES:Festa,Agenda cultural
LOCATION:Platja de Sant Vicenç - Passeig Marquès de Casa Riera, s/n
ORGANIZER:Regidoria de Cultura
COMMENT:Preu: Gratuït
URL:https://www.svmontalt.cat/document.php?id=6334
END:VEVENT
END:VCALENDAR