BEGIN:VCALENDAR
VERSION:2.0
PRODID:-//Plone.org//NONSGML plone.app.event//EN
X-WR-TIMEZONE:Europe/Madrid
BEGIN:VEVENT
SUMMARY:Diumenge, vine a ballar al Cívic!
DTSTART;TZID=Europe/Madrid;VALUE=DATE-TIME:20120930T180000
DTEND;TZID=Europe/Madrid;VALUE=DATE-TIME:20120930T190000
DTSTAMP;VALUE=DATE-TIME:20260423T200245Z
UID:ec6d013d4e0a600308b075e84793af6e
CREATED;VALUE=DATE-TIME:20120930T000000Z
CATEGORIES:Dansa,Agenda cultural
LOCATION:Centre Cívic El Gorg - Riera del Gorg, s/n
ORGANIZER:Associació de Gent Gran Els Xurravins
DESCRIPTION:A càrrec d'Antoni Bertran
URL:https://www.svmontalt.cat/document.php?id=6369
END:VEVENT
END:VCALENDAR