BEGIN:VCALENDAR
VERSION:2.0
PRODID:-//Plone.org//NONSGML plone.app.event//EN
X-WR-TIMEZONE:Europe/Madrid
BEGIN:VEVENT
SUMMARY:Històries de vida
DTSTART;TZID=Europe/Madrid;VALUE=DATE-TIME:20121025T100000
DTEND;TZID=Europe/Madrid;VALUE=DATE-TIME:20121025T110000
DTSTAMP;VALUE=DATE-TIME:20260424T155223Z
UID:4175d2654895609e97e56045a76b825b
CREATED;VALUE=DATE-TIME:20121025T000000Z
CATEGORIES:Cursos,Agenda cultural
LOCATION:Telecentre - Riera del Gorg, s/n
ORGANIZER:Associació de Gent Gran Els Xurravins amb el suport de Fundació "la Caixa"
COMMENT:Preu: Gratuït
Durada: De 10 a 12h
URL:https://www.svmontalt.cat/document.php?id=6402
END:VEVENT
END:VCALENDAR