BEGIN:VCALENDAR
VERSION:2.0
PRODID:-//Plone.org//NONSGML plone.app.event//EN
X-WR-TIMEZONE:Europe/Madrid
BEGIN:VEVENT
SUMMARY:Històries de vida
DTSTART;TZID=Europe/Madrid;VALUE=DATE-TIME:20121115T100000
DTEND;TZID=Europe/Madrid;VALUE=DATE-TIME:20121115T110000
DTSTAMP;VALUE=DATE-TIME:20260422T121149Z
UID:ed6c688f3656cd976c3151e129b8bf7c
CREATED;VALUE=DATE-TIME:20121115T000000Z
CATEGORIES:Cursos,Agenda cultural
LOCATION:Telecentre - Riera del Gorg, s/n
ORGANIZER:Associació de Gent Gran Els Xurravins amb el suport de Fundació "la Caixa"
COMMENT:Preu: Gratuït
Durada: De 10 a 12h
URL:https://www.svmontalt.cat/document.php?id=6407
END:VEVENT
END:VCALENDAR