BEGIN:VCALENDAR
VERSION:2.0
PRODID:-//Plone.org//NONSGML plone.app.event//EN
X-WR-TIMEZONE:Europe/Madrid
BEGIN:VEVENT
SUMMARY:L'hora del conte
DTSTART;TZID=Europe/Madrid;VALUE=DATE-TIME:20121024T173000
DTEND;TZID=Europe/Madrid;VALUE=DATE-TIME:20121024T183000
DTSTAMP;VALUE=DATE-TIME:20260424T161558Z
UID:3aa9d83c9395c03f6d119696c23d3b9e
CREATED;VALUE=DATE-TIME:20121024T000000Z
CATEGORIES:Literatura,Agenda cultural,Infantils
LOCATION:Centre Cívic El Gorg - Riera del Gorg, s/n
ORGANIZER:Biblioteca Municipal La Muntala
COMMENT:Preu: Gratuït
URL:https://www.svmontalt.cat/document.php?id=6449
END:VEVENT
END:VCALENDAR