BEGIN:VCALENDAR
VERSION:2.0
PRODID:-//Plone.org//NONSGML plone.app.event//EN
X-WR-TIMEZONE:Europe/Madrid
BEGIN:VEVENT
SUMMARY:Tarda màgica amb el Mag Aritahi
DTSTART;TZID=Europe/Madrid;VALUE=DATE-TIME:20121006T180000
DTEND;TZID=Europe/Madrid;VALUE=DATE-TIME:20121006T190000
DTSTAMP;VALUE=DATE-TIME:20260422T033508Z
UID:33d1efe1d029dc7cb906f23fc6dc40b5
CREATED;VALUE=DATE-TIME:20121006T000000Z
CATEGORIES:Infantils
LOCATION:Centre Cívic El Gorg - Riera del Gorg, s/n
ORGANIZER:Regidoria de Cultura
COMMENT:Preu: 2 euros
URL:https://www.svmontalt.cat/document.php?id=6456
END:VEVENT
END:VCALENDAR