BEGIN:VCALENDAR
VERSION:2.0
PRODID:-//Plone.org//NONSGML plone.app.event//EN
X-WR-TIMEZONE:Europe/Madrid
BEGIN:VEVENT
SUMMARY:Correllengua 2012
DTSTART;TZID=Europe/Madrid;VALUE=DATE-TIME:20121014T120000
DTEND;TZID=Europe/Madrid;VALUE=DATE-TIME:20121014T130000
DTSTAMP;VALUE=DATE-TIME:20260420T173213Z
UID:b6deee0aeeedf13e5a265549e79f285a
CREATED;VALUE=DATE-TIME:20121014T000000Z
CATEGORIES:Festa,Agenda cultural
LOCATION:Plaça de l'Església - Plaça de l'Esglèsia, s/n
ORGANIZER:Regidoria de Cultura amb la col·laboració de les entitats de la vila
URL:https://www.svmontalt.cat/document.php?id=6459
END:VEVENT
END:VCALENDAR