BEGIN:VCALENDAR
VERSION:2.0
PRODID:-//Plone.org//NONSGML plone.app.event//EN
X-WR-TIMEZONE:Europe/Madrid
BEGIN:VEVENT
SUMMARY:Taller: "Reconeixem i connectem amb la nostra essència"
DTSTART;TZID=Europe/Madrid;VALUE=DATE-TIME:20121019T190000
DTEND;TZID=Europe/Madrid;VALUE=DATE-TIME:20121019T200000
DTSTAMP;VALUE=DATE-TIME:20260420T023810Z
UID:642c8d47ecc37328d082c2860fc68b79
CREATED;VALUE=DATE-TIME:20121019T000000Z
CATEGORIES:Cursos,Agenda cultural
LOCATION:Centre Cívic El Gorg - Riera del Gorg, s/n
ORGANIZER:Regidoria de Benestar Social i Montse Macanàs
COMMENT:Preu: Gratuït
DESCRIPTION:A càrrec de Montse Macanàs i Sandra González
URL:https://www.svmontalt.cat/document.php?id=6464
END:VEVENT
END:VCALENDAR